Workbook

Sheet 114年
A1: 114年1月1日至12月31日由女性企業承包決標案件統計表
A3: 採購性質 | B3: 全部決標 件數 | C3: 全部決標 金額 (億元) | D3: 女性企業 | H3: 女性中小企業 | L3: 符合一定條件之女性中小企業
D4: 件數 | E4: 件數比率 | F4: 金額 (億元) | G4: 金額比率 | H4: 件數 | I4: 件數比率 | J4: 金額 (億元) | K4: 金額比率 | L4: 件數 | M4: 件數比率 | N4: 金額 (億元) | O4: 金額比率
A5: 工程 | B5: 40652 | C5: 8372.2499 | D5: 12604 | E5: =D5/B5 -> 0.31004625 | F5: 1389.1737 | G5: =F5/C5 -> 0.16592597 | H5: 12410 | I5: =H5/B5 -> 0.30527403 | J5: 1263.7363 | K5: =J5/C5 -> 0.15094345 | L5: 9873 | M5: =L5/B5 -> 0.24286628 | N5: 763.45699 | O5: =N5/C5 -> 0.091188987
A6: 財物 | B6: 54631 | C6: 8208.9918 | D6: 15170 | E6: =D6/B6 -> 0.27768117 | F6: 774.96934 | G6: =F6/C6 -> 0.094404936 | H6: 14808 | I6: =H6/B6 -> 0.2710549 | J6: 666.20946 | K6: =J6/C6 -> 0.081156063 | L6: 11809 | M6: =L6/B6 -> 0.21615932 | N6: 490.88706 | O6: =N6/C6 -> 0.059798703
A7: 勞務 | B7: 70251 | C7: 4147.643 | D7: 19880 | E7: =D7/B7 -> 0.2829853 | F7: 808.48117 | G7: =F7/C7 -> 0.19492545 | H7: 18831 | I7: =H7/B7 -> 0.26805312 | J7: 690.96438 | K7: =J7/C7 -> 0.16659206 | L7: 16231 | M7: =L7/B7 -> 0.23104297 | N7: 539.13961 | O7: =N7/C7 -> 0.12998699
A8: 合計 | B8: =SUM(B5:B7) -> 165534 | C8: =SUM(C5:C7) -> 20728.885 | D8: =SUM(D5:D7) -> 47654 | E8: =D8/B8 -> 0.28788044 | F8: =SUM(F5:F7) -> 2972.6242 | G8: =F8/C8 -> 0.14340493 | H8: =SUM(H5:H7) -> 46049 | I8: =H8/B8 -> 0.27818454 | J8: =SUM(J5:J7) -> 2620.9101 | K8: =J8/C8 -> 0.12643758 | L8: =SUM(L5:L7) -> 37913 | M8: =L8/B8 -> 0.22903452 | N8: =SUM(N5:N7) -> 1793.4837 | O8: =N8/C8 -> 0.086520992
A9: 資料來源：企劃處
A10: 備註： 1.性別資料使用： (1)本統計所稱「女性企業」，指依商業登記法及公司法登記之企業，其法定代表人為女性之得標廠商。 (2)本統計所稱「女性中小企業」，指依商業登記法及公司法登記之企業，其指法定代表人為女性且決標公告之『是否為中小企業』選取『是』之得標廠商。 (3)本統計所稱「符合一定條件之女性中小企業」 原名稱為「優先取得採購業務機會之女性中小企業」，依工程會104年l0月27日「104年推動性別平等業務輔導考核實地考核綜合座談會」討論情形，因現行法令上並未對該類女性中小企業採取優惠或保護措施，爰研議修正該用詞，並經工程會104年12月14日簽奉核定修正用詞。 (4)「符合一定條件之女性中小企業」篩選條件，依經濟部中小企業處102年3月22日「研議辦理女性企業參與政府採購性別統計事宜」會議結論，指中小企業之法定代表人為女性，且該企業符合下列要件之一：一、女性持有股權或出資額須達二分之一以上。二、依法登記之負責人及關係人二分之一以上為女性。上述兩項篩選條件排除股份有限公司依法登記之法人及其持有股權(即法人股東無性別，不納入計算)。 (5)有關決標件數及決標金額，係依商業登記法及公司法登記之企業得標者。 (6)採購案件如為複數決標，若有多個女性企業得標，為與全年度總採購案件比較，以該採購案為準統計1次。 2.應用深化： (1)統計期間，女性企業得標家數計 11,811 家 (A)，女性中小企業得標家數計 11,618 (B)，B/A 之比率為 98.37%，顯示女性企業大多以中小企業為主。與113年度相較，女性企業增加 88 家，上升 0.75%；女性中小企業家數增加 79 家，上升 0.68%。符合一定條件之女性中小企業家數計 9,848 家 (C)，C/A 之比率為 83.38%，與 113 年相較，增加61家，上升0.62%。 (2)就公司登記及商業登記之企業，其得標之 全部件數 165,534 件，全部決標金額約20,728.88億元。其中，女性企業得標件數47,654件（約占全部件數之 28.79%），得標金額約 2,972.62 億元（約占全部決標金額之 14.34%）；女性中小企業得標件數 46,049 件（約占全部總件數 27.82%），得標金額 2,620.91 億元（約占全部決標總金額 12.64%） ；符合一定條件之女性中小企業之得標件數 37,913 件（占總決標件數之 22.90%），得標金額約 1,793.48 億元（占總決標金額之 8.65%）。 (3) 各類女性企業承包政府採購之件數及金額之變動情形：女性企業、女性中小企業及符合一定條件之女性中小企業承包件數，114 年較 113 年分別增加2.06%、2.06%及1.07%；在承包金額方面，女性企業、女性中小企業及符合一定條件之女性中小企業承包金額，114年較113年則分別增加1.38%、9.75%及6.18%，女性企業承包政府採購件數及金額均持續上升。 3.未進行國際性別統計比較原因說明：各國對於女性企業、女性中小企業等之定義可能不同，且尚難取得資料，爰無法與國際進行性別統計比較。
J13: 家數
C14: 女性企業家數 | D14: 11532 | K14: a | L14: b | M14: c
C15: 女性中小企業家數 | D15: 11355 | E15: =D15/D14 -> 0.9846514 | J15: 113 | K15: 11723 | L15: 11539 | M15: 9787
C16: 優先取得採購業務機會之女性中小企業 | D16: 9635 | E16: =D16/D14 -> 0.83550121 | J16: 114 | K16: 11811 | L16: 11618 | M16: 9848
K17: =K16-K15 -> 88 | L17: =L16-L15 -> 79 | M17: =M16-M15 -> 61
K18: =K17/K15 -> 0.0075066109 | L18: =L17/L15 -> 0.0068463472 | M18: =M17/M15 -> 0.0062327577
L19: b/a | M19: c/a
L20: =#REF!/#REF! -> #REF! | M20: =#REF!/#REF! -> #REF!
L21: =L15/K15 -> 0.98430436 | M21: =M15/K15 -> 0.83485456
J22: 件數
J23: 113 | K23: ='113年'!$D$8 -> 46692 | L23: ='113年'!$H$8 -> 45119 | M23: ='113年'!$L$8 -> 37510
J24: 114 | K24: =$D$8 -> 47654 | L24: =$H$8 -> 46049 | M24: =$L$8 -> 37913
J25: 114-113 | K25: =K24-K23 -> 962 | L25: =L24-L23 -> 930 | M25: =M24-M23 -> 403
K26: =K25/K23 -> 0.020603101 | L26: =L25/L23 -> 0.020612159 | M26: =M25/M23 -> 0.010743802
J29: 錢
J30: 113 | K30: ='113年'!$F$8 -> 2932.1518 | L30: ='113年'!$J$8 -> 2388.1161 | M30: ='113年'!$N$8 -> 1689.1539
J31: 114 | K31: =$F$8 -> 2972.6242 | L31: =$J$8 -> 2620.9101 | M31: =$N$8 -> 1793.4837
J32: 114-113 | K32: =K31-K30 -> 40.47245 | L32: =L31-L30 -> 232.79396 | M32: =M31-M30 -> 104.32981
K33: =K32/K30 -> 0.013802986 | L33: =L32/L30 -> 0.097480169 | M33: =M32/M30 -> 0.061764537

Sheet 114年附表1
A1: 114年1月1日至12月31日由女性企業承包決標案件統計表(縣市別)
A3: 廠商地址(縣市) | B3: 女性企業 | F3: 女性中小企業 | J3: 符合一定條件之女性中小企業
B4: 家數 | C4: 家數比率 | D4: 金額 (億元) | E4: 金額比率 | F4: 家數 | G4: 家數比率 | H4: 金額 (億元) | I4: 金額比率 | J4: 家數 | K4: 家數比率 | L4: 金額 (億元) | M4: 金額比率
A5: 臺北市 | B5: 2125 | C5: =B5/$B$27 -> 0.17675927 | D5: 671.74836 | E5: =D5/$D$27 -> 0.22597823 | F5: 2083 | G5: =F5/$F$27 -> 0.17621183 | H5: 517.98259 | I5: =H5/$H$27 -> 0.19763463 | J5: 1729 | K5: =J5/$J$27 -> 0.17284815 | L5: 363.98399 | M5: =L5/$L$27 -> 0.20294803
A6: 臺中市 | B6: 1477 | C6: =B6/$B$27 -> 0.12285809 | D6: 390.98048 | E6: =D6/$D$27 -> 0.13152704 | F6: 1460 | G6: =F6/$F$27 -> 0.12350901 | H6: 329.35691 | I6: =H6/$H$27 -> 0.12566509 | J6: 1187 | K6: =J6/$J$27 -> 0.1186644 | L6: 214.07999 | M6: =L6/$L$27 -> 0.11936545
A7: 基隆市 | B7: 156 | C7: =B7/$B$27 -> 0.01297621 | D7: 22.947454 | E7: =D7/$D$27 -> 0.0077195945 | F7: 156 | G7: =F7/$F$27 -> 0.013196853 | H7: 21.30449 | I7: =H7/$H$27 -> 0.0081286612 | J7: 137 | K7: =J7/$J$27 -> 0.013695891 | L7: 13.851053 | M7: =L7/$L$27 -> 0.0077229883
A8: 臺南市 | B8: 842 | C8: =B8/$B$27 -> 0.070038263 | D8: 139.68916 | E8: =D8/$D$27 -> 0.046991867 | F8: 828 | G8: =F8/$F$27 -> 0.070044835 | H8: 134.35383 | I8: =H8/$H$27 -> 0.051262281 | J8: 715 | K8: =J8/$J$27 -> 0.071478556 | L8: 104.22908 | M8: =L8/$L$27 -> 0.058115435
A9: 高雄市 | B9: 1589 | C9: =B9/$B$27 -> 0.13217435 | D9: 358.83631 | E9: =D9/$D$27 -> 0.12071365 | F9: 1576 | G9: =F9/$F$27 -> 0.13332205 | H9: 333.42915 | I9: =H9/$H$27 -> 0.12721884 | J9: 1339 | K9: =J9/$J$27 -> 0.13385984 | L9: 243.85122 | M9: =L9/$L$27 -> 0.13596512
A10: 新北市 | B10: 1815 | C10: =B10/$B$27 -> 0.15097322 | D10: 504.23874 | E10: =D10/$D$27 -> 0.16962748 | F10: 1788 | G10: =F10/$F$27 -> 0.15125624 | H10: 437.88094 | I10: =H10/$H$27 -> 0.1670721 | J10: 1482 | K10: =J10/$J$27 -> 0.14815555 | L10: 264.42975 | M10: =L10/$L$27 -> 0.14743917
A11: 宜蘭縣 | B11: 250 | C11: =B11/$B$27 -> 0.020795209 | D11: 31.386753 | E11: =D11/$D$27 -> 0.010558601 | F11: 246 | G11: =F11/$F$27 -> 0.020810422 | H11: 31.163836 | I11: =H11/$H$27 -> 0.011890464 | J11: 216 | K11: =J11/$J$27 -> 0.021593522 | L11: 22.51242 | M11: =L11/$L$27 -> 0.012552342
A12: 桃園市 | B12: 793 | C12: =B12/$B$27 -> 0.065962402 | D12: 148.74118 | E12: =D12/$D$27 -> 0.050036994 | F12: 778 | G12: =F12/$F$27 -> 0.065815075 | H12: 144.19783 | I12: =H12/$H$27 -> 0.055018228 | J12: 652 | K12: =J12/$J$27 -> 0.065180446 | L12: 118.4828 | M12: =L12/$L$27 -> 0.066062941
A13: 嘉義市 | B13: 223 | C13: =B13/$B$27 -> 0.018549326 | D13: 40.549017 | E13: =D13/$D$27 -> 0.013640815 | F13: 218 | G13: =F13/$F$27 -> 0.018441756 | H13: 40.291609 | I13: =H13/$H$27 -> 0.015373137 | J13: 188 | K13: =J13/$J$27 -> 0.018794362 | L13: 23.754616 | M13: =L13/$L$27 -> 0.013244958
A14: 新竹縣 | B14: 171 | C14: =B14/$B$27 -> 0.014223923 | D14: 38.605057 | E14: =D14/$D$27 -> 0.012986861 | F14: 167 | G14: =F14/$F$27 -> 0.0141274 | H14: 38.106369 | I14: =H14/$H$27 -> 0.014539365 | J14: 145 | K14: =J14/$J$27 -> 0.014495651 | L14: 30.186247 | M14: =L14/$L$27 -> 0.016831069
A15: 苗栗縣 | B15: 226 | C15: =B15/$B$27 -> 0.018798869 | D15: 39.498696 | E15: =D15/$D$27 -> 0.013287484 | F15: 224 | G15: =F15/$F$27 -> 0.018949327 | H15: 39.238842 | I15: =H15/$H$27 -> 0.014971456 | J15: 190 | K15: =J15/$J$27 -> 0.018994302 | L15: 22.924222 | M15: =L15/$L$27 -> 0.012781952
A16: 南投縣 | B16: 237 | C16: =B16/$B$27 -> 0.019713858 | D16: 57.200432 | E16: =D16/$D$27 -> 0.019242403 | F16: 234 | G16: =F16/$F$27 -> 0.01979528 | H16: 56.749689 | I16: =H16/$H$27 -> 0.021652665 | J16: 208 | K16: =J16/$J$27 -> 0.020793762 | L16: 39.317666 | M16: =L16/$L$27 -> 0.021922511
... A26: 連江縣 | B26: 35 | C26: =B26/$B$27 -> 0.0029113292 | D26: 6.7211709 | E26: =D26/$D$27 -> 0.0022610227 | F26: 35 | G26: =F26/$F$27 -> 0.0029608324 | H26: 6.662133 | I26: =H26/$H$27 -> 0.0025419159 | J26: 33 | K26: =J26/$J$27 -> 0.0032990103 | L26: 6.3014117 | M26: =L26/$L$27 -> 0.0035135038
A27: 合計 | B27: =SUM(B5:B26) -> 12022 | C27: =B27/$B$27 -> 1 | D27: =SUM(D5:D26) -> 2972.6242 | E27: =D27/$D$27 -> 1 | F27: =SUM(F5:F26) -> 11821 | G27: =F27/$F$27 -> 1 | H27: =SUM(H5:H26) -> 2620.9101 | I27: =H27/$H$27 -> 1 | J27: =SUM(J5:J26) -> 10003 | K27: =J27/$J$27 -> 1 | L27: =SUM(L5:L26) -> 1793.4837 | M27: =L27/$L$27 -> 1
A28: 備註： 1.性別資料使用： (1)本統計所稱「女性企業」，指依商業登記法及公司法登記之企業，其法定代表人為女性之得標廠商。 (2)本統計所稱「女性中小企業」，指依商業登記法及公司法登記之企業，其指法定代表人為女性且決標公告之『是否為中小企業』選取『是』之得標廠商。 (3)本統計所稱「符合一定條件之女性中小企業」 原名稱為「優先取得採購業務機會之女性中小企業」，依工程會104年l0月27日「104年推動性別平等業務輔導考核實地考核綜合座談會」討論情形，因現行法令上並未對該類女性中小企業採取優惠或保護措施，爰研議修正該用詞，並經工程會104年12月14日簽奉核定修正用詞。 (4)「符合一定條件之女性中小企業」篩選條件，依經濟部中小企業處102年3月22日「研議辦理女性企業參與政府採購性別統計事宜」會議結論，指中小企業之法定代表人為女性，且該企業符合下列要件之一：一、女性持有股權或出資額須達二分之一以上。二、依法登記之負責人及關係人二分之一以上為女性。上述兩項篩選條件排除股份有限公司依法登記之法人及其持有股權(即法人股東無性別，不納入計算)。 (5)有關決標件數及決標金額，係依商業登記法及公司法登記之企業得標者。 2.同廠商代碼相同廠商地址列1筆計算；同廠商代碼不同廠商地址(縣市)列多筆計算；複數決標依得標廠商數計算。 3.有關決標件數及決標金額，係依商業登記法及公司法登記之企業得標者。 4.統計日期：2026/3/26。

Sheet 113年
A1: 113年1月1日至12月31日由女性企業承包決標案件統計表
A3: 採購性質 | B3: 全部決標 件數 | C3: 全部決標 金額 (億元) | D3: 女性企業 | H3: 女性中小企業 | L3: 符合一定條件之女性中小企業
D4: 件數 | E4: 件數比率 | F4: 金額 (億元) | G4: 金額比率 | H4: 件數 | I4: 件數比率 | J4: 金額 (億元) | K4: 金額比率 | L4: 件數 | M4: 件數比率 | N4: 金額 (億元) | O4: 金額比率
A5: 工程 | B5: 39866 | C5: 8261.1222 | D5: 12102 | E5: =D5/B5 -> 0.30356695 | F5: 1528.1734 | G5: =F5/C5 -> 0.18498376 | H5: 11934 | I5: =H5/B5 -> 0.29935283 | J5: 1181.206 | K5: =J5/C5 -> 0.14298372 | L5: 9752 | M5: =L5/B5 -> 0.24461948 | N5: 790.26824 | O5: =N5/C5 -> 0.095661124
A6: 財物 | B6: 54408 | C6: 4252.7382 | D6: 15282 | E6: =D6/B6 -> 0.28087781 | F6: 667.69476 | G6: =F6/C6 -> 0.1570035 | H6: 14928 | I6: =H6/B6 -> 0.27437142 | J6: 588.12238 | K6: =J6/C6 -> 0.13829264 | L6: 12018 | M6: =L6/B6 -> 0.22088663 | N6: 415.99825 | O6: =N6/C6 -> 0.097818918
A7: 勞務 | B7: 68449 | C7: 3806.2043 | D7: 19308 | E7: =D7/B7 -> 0.28207863 | F7: 736.28358 | G7: =F7/C7 -> 0.193443 | H7: 18257 | I7: =H7/B7 -> 0.26672413 | J7: 618.78774 | K7: =J7/C7 -> 0.16257345 | L7: 15740 | M7: =L7/B7 -> 0.22995223 | N7: 482.88737 | O7: =N7/C7 -> 0.12686849
A8: 合計 | B8: =SUM(B5:B7) -> 162723 | C8: =SUM(C5:C7) -> 16320.065 | D8: =SUM(D5:D7) -> 46692 | E8: =D8/B8 -> 0.28694161 | F8: =SUM(F5:F7) -> 2932.1518 | G8: =F8/C8 -> 0.17966545 | H8: =SUM(H5:H7) -> 45119 | I8: =H8/B8 -> 0.27727488 | J8: =SUM(J5:J7) -> 2388.1161 | K8: =J8/C8 -> 0.14633007 | L8: =SUM(L5:L7) -> 37510 | M8: =L8/B8 -> 0.23051443 | N8: =SUM(N5:N7) -> 1689.1539 | O8: =N8/C8 -> 0.10350166
A9: 資料來源：企劃處
A10: 備註： 1.性別資料使用： (1)本統計所稱「女性企業」，指依商業登記法及公司法登記之企業，其法定代表人為女性之得標廠商。 (2)本統計所稱「女性中小企業」，指依商業登記法及公司法登記之企業，其指法定代表人為女性且決標公告之『是否為中小企業』選取『是』之得標廠商。 (3)本統計所稱「符合一定條件之女性中小企業」 原名稱為「優先取得採購業務機會之女性中小企業」，依工程會104年l0月27日「104年推動性別平等業務輔導考核實地考核綜合座談會」討論情形，因現行法令上並未對該類女性中小企業採取優惠或保護措施，爰研議修正該用詞，並經工程會104年12月14日簽奉核定修正用詞。 (4)「符合一定條件之女性中小企業」篩選條件，依經濟部中小企業處102年3月22日「研議辦理女性企業參與政府採購性別統計事宜」會議結論，指中小企業之法定代表人為女性，且該企業符合下列要件之一：一、女性持有股權或出資額須達二分之一以上。二、依法登記之負責人及關係人二分之一以上為女性。上述兩項篩選條件排除股份有限公司依法登記之法人及其持有股權(即法人股東無性別，不納入計算)。 (5)有關決標件數及決標金額，係依商業登記法及公司法登記之企業得標者。 (6)採購案件如為複數決標，若有多個女性企業得標，為與全年度總採購案件比較，以該採購案為準統計1次。 2.應用深化： (1)統計期間，女性企業得標家數計11,723家(A)，女性中小企業得標家數計11,539(B)，B/A之比率為98.43%，顯示女性企業大多以中小企業為主；又與112年度相較，女性企業增加232家，上升2.02%；女性中小企業家數增加218家，上升1.93%。符合一定條件之女性中小企業家數計9,787家(C)，C/A之比率為83.49%，與112年相較，增加157家，上升1.63%。 (2)就公司登記及商業登記之企業，其得標之全部件數162,723件，全部決標金額約16,320.06億元，其中，女性企業得標件數46,692件(約占全部件數之28.69%)，得標金額約2,932.15億元(約占全部決標金額之17.97%)；女性中小企業得標件數45,119件(約占全部總件數27.73%)，得標金額2,388.12億元(約占全部決標總金額14.63%)；符合一定條件之女性小企業之得標件數37,510件(占總決標件數之23.05%)；得標金額約1,689.15億元(占總決標金額之10.35%)。 (3)各類女性企業承包政府採購之件數及金額之變動情形：女性企業、女性中小企業及符合一定條件之女性中小企業承包件數比率，113年較112年分別增加5%、4.98%及5.26%；在承包金額方面，女性企業、女性中小企業及符合一定條件之女性中小企業承包金額比率，113年較112年則分別增加14.16%、8.73%及8.21%，女性企業承包政府採購件數及金額均微幅上升。 3.未進行國際性別統計比較原因說明：各國對於女性企業、女性中小企業等之定義可能不同，且尚難取得資料，爰無法與國際進行性別統計比較。
J13: 家數
C14: 女性企業家數 | D14: 11532 | K14: a | L14: b | M14: c
C15: 女性中小企業家數 | D15: 11355 | E15: =D15/D14 -> 0.9846514 | J15: 112 | K15: 11491 | L15: 11321 | M15: 9630
C16: 優先取得採購業務機會之女性中小企業 | D16: 9635 | E16: =D16/D14 -> 0.83550121 | J16: 113 | K16: 11723 | L16: 11539 | M16: 9787
K17: =K16-K15 -> 232 | L17: =L16-L15 -> 218 | M17: =M16-M15 -> 157
K18: =K17/K15 -> 0.020189714 | L18: =L17/L15 -> 0.019256249 | M18: =M17/M15 -> 0.016303219
L19: b/a | M19: c/a
L20: =#REF!/#REF! -> #REF! | M20: =#REF!/#REF! -> #REF!
L21: =L16/K16 -> 0.98430436 | M21: =M16/K16 -> 0.83485456
J22: 件數
J23: 112 | K23: ='112年'!$D$8 -> 44470 | L23: ='112年'!$H$8 -> 42980 | M23: ='112年'!$L$8 -> 35637
J24: 113 | K24: =$D$8 -> 46692 | L24: =$H$8 -> 45119 | M24: =$L$8 -> 37510
J25: 113-112 | K25: =K24-K23 -> 2222 | L25: =L24-L23 -> 2139 | M25: =M24-M23 -> 1873
K26: =K25/K23 -> 0.049966269 | L26: =L25/L23 -> 0.049767334 | M26: =M25/M23 -> 0.052557735
J29: 錢
J30: 112 | K30: ='112年'!$F$8 -> 2568.4315 | L30: ='112年'!$J$8 -> 2196.4446 | M30: ='112年'!$N$8 -> 1560.9253
J31: 113 | K31: =$F$8 -> 2932.1518 | L31: =$J$8 -> 2388.1161 | M31: =$N$8 -> 1689.1539
J32: 113-112 | K32: =K31-K30 -> 363.7203 | L32: =L31-L30 -> 191.67155 | M32: =M31-M30 -> 128.22859
K33: =K32/K30 -> 0.14161184 | L33: =L32/L30 -> 0.087264458 | M33: =M32/M30 -> 0.082149091

Sheet 113年附表1
A1: 113年1月1日至12月31日由女性企業承包決標案件統計表(縣市別)
A3: 廠商地址(縣市) | B3: 女性企業 | F3: 女性中小企業 | J3: 符合一定條件之女性中小企業
B4: 家數 | C4: 家數比率 | D4: 金額 (億元) | E4: 金額比率 | F4: 家數 | G4: 家數比率 | H4: 金額 (億元) | I4: 金額比率 | J4: 家數 | K4: 家數比率 | L4: 金額 (億元) | M4: 金額比率
A5: 臺北市 | B5: =2066+1 -> 2067 | C5: =B5/$B$27 -> 0.17632005 | D5: =716.9338642+0.00414 -> 716.938 | E5: =D5/$D$27 -> 0.24451251 | F5: =2026+1 -> 2027 | G5: =F5/$F$27 -> 0.17566514 | H5: =424.17327158+0.00414 -> 424.17741 | I5: =H5/$H$27 -> 0.17762307 | J5: =1667+1 -> 1668 | K5: =J5/$J$27 -> 0.17043016 | L5: =295.46159962+0.00414 -> 295.46574 | M5: =L5/$L$27 -> 0.17492352
A6: 臺中市 | B6: 1490 | C6: =B6/$B$27 -> 0.12710057 | D6: 353.56013 | E6: =D6/$D$27 -> 0.12058208 | F6: 1472 | G6: =F6/$F$27 -> 0.12756738 | H6: 337.71812 | I6: =H6/$H$27 -> 0.14141849 | J6: 1210 | K6: =J6/$J$27 -> 0.12363339 | L6: 239.42156 | M6: =L6/$L$27 -> 0.14174389
A7: 基隆市 | B7: 158 | C7: =B7/$B$27 -> 0.013477779 | D7: 19.171777 | E7: =D7/$D$27 -> 0.006538556 | F7: 156 | G7: =F7/$F$27 -> 0.013519369 | H7: 19.087041 | I7: =H7/$H$27 -> 0.0079926433 | J7: 134 | K7: =J7/$J$27 -> 0.013691632 | L7: 13.504782 | M7: =L7/$L$27 -> 0.0079951876
A8: 臺南市 | B8: 789 | C8: =B8/$B$27 -> 0.067303591 | D8: 127.93124 | E8: =D8/$D$27 -> 0.043631092 | F8: 780 | G8: =F8/$F$27 -> 0.067596845 | H8: 126.41365 | I8: =H8/$H$27 -> 0.052935353 | J8: 675 | K8: =J8/$J$27 -> 0.068969041 | L8: 91.775058 | M8: =L8/$L$27 -> 0.054333257
A9: 高雄市 | B9: 1554 | C9: =B9/$B$27 -> 0.13255992 | D9: 354.79873 | E9: =D9/$D$27 -> 0.1210045 | F9: 1541 | G9: =F9/$F$27 -> 0.1335471 | H9: 349.59192 | I9: =H9/$H$27 -> 0.14639061 | J9: 1335 | K9: =J9/$J$27 -> 0.13640544 | L9: 267.16641 | M9: =L9/$L$27 -> 0.15816957
A10: 新北市 | B10: 1836 | C10: =B10/$B$27 -> 0.1566152 | D10: 450.52526 | E10: =D10/$D$27 -> 0.15365214 | F10: 1806 | G10: =F10/$F$27 -> 0.1565127 | H10: 398.10742 | I10: =H10/$H$27 -> 0.16670634 | J10: 1494 | K10: =J10/$J$27 -> 0.15265148 | L10: 252.68489 | M10: =L10/$L$27 -> 0.14959613
A11: 宜蘭縣 | B11: 241 | C11: =B11/$B$27 -> 0.020557878 | D11: 32.648738 | E11: =D11/$D$27 -> 0.011134889 | F11: 237 | G11: =F11/$F$27 -> 0.020539042 | H11: 32.566414 | I11: =H11/$H$27 -> 0.013637092 | J11: 206 | K11: =J11/$J$27 -> 0.021048329 | L11: 23.630725 | M11: =L11/$L$27 -> 0.013990013
A12: 桃園市 | B12: 773 | C12: =B12/$B$27 -> 0.065938753 | D12: 135.04662 | E12: =D12/$D$27 -> 0.046057801 | F12: 760 | G12: =F12/$F$27 -> 0.065863593 | H12: 131.89331 | I12: =H12/$H$27 -> 0.055229943 | J12: 639 | K12: =J12/$J$27 -> 0.065290692 | L12: 103.18664 | M12: =L12/$L$27 -> 0.061089215
A13: 嘉義市 | B13: 189 | C13: =B13/$B$27 -> 0.016122153 | D13: 37.55045 | E13: =D13/$D$27 -> 0.012806623 | F13: 188 | G13: =F13/$F$27 -> 0.016292573 | H13: 29.804087 | I13: =H13/$H$27 -> 0.012480375 | J13: 161 | K13: =J13/$J$27 -> 0.016450393 | L13: 20.672563 | M13: =L13/$L$27 -> 0.012238703
A14: 新竹縣 | B14: 172 | C14: =B14/$B$27 -> 0.014672012 | D14: 25.37878 | E14: =D14/$D$27 -> 0.0086554613 | F14: 171 | G14: =F14/$F$27 -> 0.014819308 | H14: 25.18438 | I14: =H14/$H$27 -> 0.010545886 | J14: 149 | K14: =J14/$J$27 -> 0.015224277 | L14: 20.041454 | M14: =L14/$L$27 -> 0.01186507
A15: 苗栗縣 | B15: 223 | C15: =B15/$B$27 -> 0.019022435 | D15: 32.52506 | E15: =D15/$D$27 -> 0.011092708 | F15: 222 | G15: =F15/$F$27 -> 0.019239102 | H15: 32.231064 | I15: =H15/$H$27 -> 0.013496665 | J15: 192 | K15: =J15/$J$27 -> 0.01961786 | L15: 22.174542 | M15: =L15/$L$27 -> 0.013127914
A16: 南投縣 | B16: 240 | C16: =B16/$B$27 -> 0.020472575 | D16: 51.955941 | E16: =D16/$D$27 -> 0.017719632 | F16: 237 | G16: =F16/$F$27 -> 0.020539042 | H16: 51.533108 | I16: =H16/$H$27 -> 0.02157934 | J16: 214 | K16: =J16/$J$27 -> 0.02186574 | L16: 38.400492 | M16: =L16/$L$27 -> 0.022734105
A17: 彰化縣 | B17: 337 | C17: =B17/$B$27 -> 0.028746908 | D17: 54.703216 | E17: =D17/$D$27 -> 0.018656593 | F17: 332 | G17: =F17/$F$27 -> 0.028771991 | H17: 54.340426 | I17: =H17/$H$27 -> 0.022754897 | J17: 266 | K17: =J17/$J$27 -> 0.027178911 | L17: 40.352897 | M17: =L17/$L$27 -> 0.02388998
... A26: 連江縣 | B26: 38 | C26: =B26/$B$27 -> 0.0032414911 | D26: 4.2338045 | E26: =D26/$D$27 -> 0.0014439438 | F26: 37 | G26: =F26/$F$27 -> 0.003206517 | H26: 4.1636545 | I26: =H26/$H$27 -> 0.0017435183 | J26: 35 | K26: =J26/$J$27 -> 0.0035761725 | L26: 3.3017799 | M26: =L26/$L$27 -> 0.0019547409
A27: 合計 | B27: =SUM(B5:B26) -> 11723 | C27: =B27/$B$27 -> 1 | D27: =SUM(D5:D26) -> 2932.1118 | E27: =D27/$D$27 -> 1 | F27: =SUM(F5:F26) -> 11539 | G27: =F27/$F$27 -> 1 | H27: =SUM(H5:H26) -> 2388.0761 | I27: =H27/$H$27 -> 1 | J27: =SUM(J5:J26) -> 9787 | K27: =J27/$J$27 -> 1 | L27: =SUM(L5:L26) -> 1689.1139 | M27: =L27/$L$27 -> 1
A28: 備註： 1.性別資料使用： (1)本統計所稱「女性企業」，指依商業登記法及公司法登記之企業，其法定代表人為女性之得標廠商。 (2)本統計所稱「女性中小企業」，指依商業登記法及公司法登記之企業，其指法定代表人為女性且決標公告之『是否為中小企業』選取『是』之得標廠商。 (3)本統計所稱「符合一定條件之女性中小企業」 原名稱為「優先取得採購業務機會之女性中小企業」，依工程會104年l0月27日「104年推動性別平等業務輔導考核實地考核綜合座談會」討論情形，因現行法令上並未對該類女性中小企業採取優惠或保護措施，爰研議修正該用詞，並經工程會104年12月14日簽奉核定修正用詞。 (4)「符合一定條件之女性中小企業」篩選條件，依經濟部中小企業處102年3月22日「研議辦理女性企業參與政府採購性別統計事宜」會議結論，指中小企業之法定代表人為女性，且該企業符合下列要件之一：一、女性持有股權或出資額須達二分之一以上。二、依法登記之負責人及關係人二分之一以上為女性。上述兩項篩選條件排除股份有限公司依法登記之法人及其持有股權(即法人股東無性別，不納入計算)。 (5)有關決標件數及決標金額，係依商業登記法及公司法登記之企業得標者。 2.同廠商代碼相同廠商地址列1筆計算；同廠商代碼不同廠商地址(縣市)列多筆計算；複數決標依得標廠商數計算。 3.有關決標件數及決標金額，係依商業登記法及公司法登記之企業得標者。 4.統計日期：2025/3/18。

Sheet 112年
A1: 112年1月1日至12月31日由女性企業承包決標案件統計表
A3: 採購性質 | B3: 全部決標 件數 | C3: 全部決標 金額 (億元) | D3: 女性企業 | H3: 女性中小企業 | L3: 符合一定條件之女性中小企業
D4: 件數 | E4: 件數比率 | F4: 金額 (億元) | G4: 金額比率 | H4: 件數 | I4: 件數比率 | J4: 金額 (億元) | K4: 金額比率 | L4: 件數 | M4: 件數比率 | N4: 金額 (億元) | O4: 金額比率
A5: 工程 | B5: 36940 | C5: 8269.6565 | D5: 11222 | E5: =D5/B5 -> 0.30378993 | F5: 1205.3039 | G5: =F5/C5 -> 0.14575018 | H5: 11036 | I5: =H5/B5 -> 0.29875474 | J5: 1040.2777 | K5: =J5/C5 -> 0.12579455 | L5: 9025 | M5: =L5/B5 -> 0.24431511 | N5: 686.86497 | O5: =N5/C5 -> 0.083058464
A6: 財物 | B6: 53953 | C6: 6173.3086 | D6: 15255 | E6: =D6/B6 -> 0.28274609 | F6: 738.82971 | G6: =F6/C6 -> 0.11968132 | H6: 14839 | I6: =H6/B6 -> 0.27503568 | J6: 604.59663 | K6: =J6/C6 -> 0.097937211 | L6: 11974 | M6: =L6/B6 -> 0.22193391 | N6: 444.30619 | O6: =N6/C6 -> 0.071972134
A7: 勞務 | B7: 63495 | C7: 3604.0629 | D7: 17993 | E7: =D7/B7 -> 0.28337664 | F7: 624.29785 | G7: =F7/C7 -> 0.17322057 | H7: 17105 | I7: =H7/B7 -> 0.26939129 | J7: 551.57022 | K7: =J7/C7 -> 0.15304123 | L7: 14638 | M7: =L7/B7 -> 0.23053784 | N7: 429.75411 | O7: =N7/C7 -> 0.11924157
A8: 合計 | B8: =SUM(B5:B7) -> 154388 | C8: =SUM(C5:C7) -> 18047.028 | D8: =SUM(D5:D7) -> 44470 | E8: =D8/B8 -> 0.28804052 | F8: =SUM(F5:F7) -> 2568.4315 | G8: =F8/C8 -> 0.14231881 | H8: =SUM(H5:H7) -> 42980 | I8: =H8/B8 -> 0.27838951 | J8: =SUM(J5:J7) -> 2196.4446 | K8: =J8/C8 -> 0.12170672 | L8: =SUM(L5:L7) -> 35637 | M8: =L8/B8 -> 0.23082753 | N8: =SUM(N5:N7) -> 1560.9253 | O8: =N8/C8 -> 0.086492095
A9: 資料來源：企劃處
A10: 備註： 1.性別資料使用： (1)本統計所稱「女性企業」，指依商業登記法及公司法登記之企業，其法定代表人為女性之得標廠商。 (2)本統計所稱「女性中小企業」，指依商業登記法及公司法登記之企業，其指法定代表人為女性且決標公告之『是否為中小企業』選取『是』之得標廠商。 (3)本統計所稱「符合一定條件之女性中小企業」 原名稱為「優先取得採購業務機會之女性中小企業」，依工程會104年l0月27日「104年推動性別平等業務輔導考核實地考核綜合座談會」討論情形，因現行法令上並未對該類女性中小企業採取優惠或保護措施，爰研議修正該用詞，並經工程會104年12月14日簽奉核定修正用詞。 (4)「符合一定條件之女性中小企業」篩選條件，依經濟部中小企業處102年3月22日「研議辦理女性企業參與政府採購性別統計事宜」會議結論，指中小企業之法定代表人為女性，且該企業符合下列要件之一：一、女性持有股權或出資額須達二分之一以上。二、依法登記之負責人及關係人二分之一以上為女性。上述兩項篩選條件排除股份有限公司依法登記之法人及其持有股權(即法人股東無性別，不納入計算)。 (5)有關決標件數及決標金額，係依商業登記法及公司法登記之企業得標者。 2.應用深化： (1)統計期間，女性企業得標家數計11,491家(A)，女性中小企業得標家數計11,321(B)，B/A之比率為98.52%，顯示女性企業大多以中小企業為主；又與111年度相較，女性企業減少587家，下降4.86%；女性中小企業家數減少554家，下降4.67%。符合一定條件之女性中小企業家數計9,630家(C)，C/A之比率為83.8%，與111年相較，減少172家，下降1.75%。 (2)就公司登記及商業登記之企業，其得標之全部件數154,388件，全部決標金額約18,047.03億元，其中，女性企業得標件數44,470件(約占全部件數之28.8%)，得標金額約2,568.43億元(約占全部決標金額之14.23%)；女性中小企業得標件數42,980件(約占全部總件數27.84%)，得標金額2,196.44億元(約占全部決標總金額12.17%)；符合一定條件之女性小企業之得標件數35,637件(占總決標件數之23.08%)；得標金額約1,560.93億元(占總決標金額之8.65%)。 (3)各類女性企業承包政府採購之件數及金額之變動情形：女性企業、女性中小企業及符合一定條件之女性中小企業承包件數比率，112年較111年分別減少10.06%、9.69%及6.76%；在承包金額方面，女性企業、女性中小企業及符合一定條件之女性中小企業承包金額比率，112年較111年則分別減少11.35%、7.87%及5.92%，惟112年總決標件數亦較111年下降約9.74%，女性企業承包政府採購件數及金額整體趨勢持平。 3.未進行國際性別統計比較原因說明：各國對於女性企業、女性中小企業等之定義可能不同，且尚難取得資料，爰無法與國際進行性別統計比較。
C14: 女性企業家數 | D14: 11491 | K14: a | L14: b | M14: c
C15: 女性中小企業家數 | D15: 11321 | E15: =D15/D14 -> 0.98520581 | J15: 111 | K15: 12078 | L15: 11875 | M15: 9802
C16: 優先取得採購業務機會之女性中小企業 | D16: 9630 | E16: =D16/D14 -> 0.83804717 | J16: 112 | K16: 11491 | L16: 11321 | M16: 9630
K17: =K16-K15 -> -587 | L17: =L16-L15 -> -554 | M17: =M16-M15 -> -172
K18: =K17/K15 -> -0.048600762 | L18: =L17/L15 -> -0.046652632 | M18: =M17/M15 -> -0.017547439
L19: b/a | M19: c/a
L20: =#REF!/#REF! -> #REF! | M20: =#REF!/#REF! -> #REF!
L21: =L16/K16 -> 0.98520581 | M21: =M16/K16 -> 0.83804717

Sheet 111年
A1: 111年1月1日至12月31日由女性企業承包決標案件統計表
A3: 採購性質 | B3: 全部決標 件數 | C3: 全部決標 金額 (億元) | D3: 女性企業 | H3: 女性中小企業 | L3: 符合一定條件之女性中小企業
D4: 件數 | E4: 件數比率 | F4: 金額 (億元) | G4: 金額比率 | H4: 件數 | I4: 件數比率 | J4: 金額 (億元) | K4: 金額比率 | L4: 件數 | M4: 件數比率 | N4: 金額 (億元) | O4: 金額比率
A5: 工程 | B5: 41167 | C5: 7817.7813 | D5: 12232 | E5: =D5/B5 -> 0.2971312 | F5: 1333.1711 | G5: =F5/C5 -> 0.17053062 | H5: 12013 | I5: =H5/B5 -> 0.2918114 | J5: 1138.8955 | K5: =J5/C5 -> 0.14568015 | L5: 9784 | M5: =L5/B5 -> 0.23766609 | N5: 744.54696 | O5: =N5/C5 -> 0.095237629
A6: 財物 | B6: 64157 | C6: 9411.7233 | D6: 18679 | E6: =D6/B6 -> 0.29114516 | F6: 941.56522 | G6: =F6/C6 -> 0.10004174 | H6: 17998 | I6: =H6/B6 -> 0.28053057 | J6: 733.18673 | K6: =J6/C6 -> 0.077901433 | L6: 13938 | M6: =L6/B6 -> 0.21724831 | N6: 527.12684 | O6: =N6/C6 -> 0.056007473
A7: 勞務 | B7: 65735 | C7: 3581.3606 | D7: 18535 | E7: =D7/B7 -> 0.28196547 | F7: 622.65752 | G7: =F7/C7 -> 0.17386061 | H7: 17579 | I7: =H7/B7 -> 0.26742223 | J7: 512.03179 | K7: =J7/C7 -> 0.1429713 | L7: 14497 | M7: =L7/B7 -> 0.220537 | N7: 387.52471 | O7: =N7/C7 -> 0.108206
A8: 合計 | B8: =SUM(B5:B7) -> 171059 | C8: =SUM(C5:C7) -> 20810.865 | D8: =SUM(D5:D7) -> 49446 | E8: =D8/B8 -> 0.28905816 | F8: =SUM(F5:F7) -> 2897.3938 | G8: =F8/C8 -> 0.13922505 | H8: =SUM(H5:H7) -> 47590 | I8: =H8/B8 -> 0.2782081 | J8: =SUM(J5:J7) -> 2384.1141 | K8: =J8/C8 -> 0.11456103 | L8: =SUM(L5:L7) -> 38219 | M8: =L8/B8 -> 0.22342584 | N8: =SUM(N5:N7) -> 1659.1985 | O8: =N8/C8 -> 0.079727512
A9: 資料來源：企劃處
A10: 備註： 1.性別資料使用： (1)本統計所稱「女性企業」，指依商業登記法及公司法登記之企業，其法定代表人為女性之得標廠商。 (2)本統計所稱「女性中小企業」，指依商業登記法及公司法登記之企業，其指法定代表人為女性且決標公告之『是否為中小企業』選取『是』之得標廠商。 (3)本統計所稱「符合一定條件之女性中小企業」 原名稱為「優先取得採購業務機會之女性中小企業」，依工程會104年l0月27日「104年推動性別平等業務輔導考核實地考核綜合座談會」討論情形，因現行法令上並未對該類女性中小企業採取優惠或保護措施，爰研議修正該用詞，並經工程會104年12月14日簽奉核定修正用詞。 (4)「符合一定條件之女性中小企業」篩選條件，依經濟部中小企業處102年3月22日「研議辦理女性企業參與政府採購性別統計事宜」會議結論，指中小企業之法定代表人為女性，且該企業符合下列要件之一：一、女性持有股權或出資額須達二分之一以上。二、依法登記之負責人及關係人二分之一以上為女性。上述兩項篩選條件排除股份有限公司依法登記之法人及其持有股權(即法人股東無性別，不納入計算)。 (5)有關決標件數及決標金額，係依商業登記法及公司法登記之企業得標者。 2.應用深化： (1)統計期間，統計期間，女性企業得標家數計12,078家(A)，女性中小企業得標家數計11,875(B)，B/A之比率為98.32%，顯示女性企業大多以中小企業為主；又與110年度相較，女性企業增加327家，上升2.78%；女性中小企業家數增加329家，增加2.85%。符合一定條件之女性中小企業家數計9,802家(C)，C/A之比率為81.16%，與110年相較，增加529家，上升5.7%。 (2)就公司登記及商業登記之企業，其得標之全部件數171,059件，全部決標金額約20,810.87億元，其中，女性企業得標件數49,446件(約占全部件數之28.91%)，得標金額約2,897.39億元(約占全部決標金額之13.92%)；女性中小企業得標件數47,590件(約占全部總件數27.82%)，得標金額2,384.11億元(約占全部決標總金額11.46%)；符合一定條件之女性小企業之得標件數38,219件(占總決標件數之22.34%)；得標金額約1,659.2億元(占總決標金額之7.97%)。 (3)各類女性企業承包政府採購之件數及金額之變動情形：女性企業、女性中小企業及符合一定條件之女性中小企業承包件數比率，111年較110年分別減少0.83%、0.67%及增加0.31%；在承包金額方面，女性企業、女性中小企業及符合一定條件之女性中小企業承包金額比率，111年較110年則分別減少12.26%、6.23%及2.83%，女性企業、女性中小企業及符合一定條件之女性中小企業家數均上升，多數承包件數及金額比率均下降，但符合一定條件之女性中小企業承包件數反而上升，似符合一定條件之女性中小企業較易得標。 3.未進行國際性別統計比較原因說明：各國對於女性企業、女性中小企業等之定義可能不同，且尚難取得資料，爰無法與國際進行性別統計比較。
D15: a | E15: b | F15: c
C16: 110 | D16: 11751 | E16: 11546 | F16: 9273
C17: 111 | D17: 12078 | E17: 11875 | F17: 9802
D18: =D17-D16 -> 327 | E18: =E17-E16 -> 329 | F18: =F17-F16 -> 529
D19: =D18/D16 -> 0.027827419 | E19: =E18/E16 -> 0.028494717 | F19: =F18/F16 -> 0.057047342
E20: b/a | F20: c/a
E21: =E16/D16 -> 0.98255468 | F21: =F16/D16 -> 0.78912433
E22: =E17/D17 -> 0.98319258 | F22: =F17/D17 -> 0.81155821
F27: 女性企業家數 | G27: 12078
F28: 女性中小企業家數 | G28: 11875 | H28: =G28/G27 -> 0.98319258
F29: 優先取得採購業務機會之女性中小企業 | G29: 9802 | H29: =G29/G27 -> 0.81155821

Sheet 110年
A1: 110年1月1日至12月31日由女性企業承包決標案件統計表
A3: 採購性質 | B3: 全部決標 件數 | C3: 全部決標 金額 (億元) | D3: 女性企業 | H3: 女性中小企業 | L3: 符合一定條件之女性中小企業
D4: 件數 | E4: 件數比率 | F4: 金額 (億元) | G4: 金額比率 | H4: 件數 | I4: 件數比率 | J4: 金額 (億元) | K4: 金額比率 | L4: 件數 | M4: 件數比率 | N4: 金額 (億元) | O4: 金額比率
A5: 工程 | B5: 39729 | C5: 6319.8157 | D5: 12094 | E5: =D5/B5 -> 0.30441239 | F5: 1486.4473 | G5: =F5/C5 -> 0.23520422 | H5: 11896 | I5: =H5/B5 -> 0.29942863 | J5: 995.32145 | K5: =J5/C5 -> 0.15749217 | L5: 9743 | M5: =L5/B5 -> 0.24523648 | N5: 730.52393 | O5: =N5/C5 -> 0.1155926
A6: 財物 | B6: 65410 | C6: 4542.8985 | D6: 19613 | E6: =D6/B6 -> 0.29984712 | F6: 1521.8058 | G6: =F6/C6 -> 0.33498565 | H6: 18752 | I6: =H6/B6 -> 0.28668399 | J6: 910.84655 | K6: =J6/C6 -> 0.20049899 | L6: 13680 | M6: =L6/B6 -> 0.20914233 | N6: 400.84817 | O6: =N6/C6 -> 0.088236216
A7: 勞務 | B7: 60772 | C7: 3092.2421 | D7: 17643 | E7: =D7/B7 -> 0.29031462 | F7: 645.40657 | G7: =F7/C7 -> 0.20871799 | H7: 16614 | I7: =H7/B7 -> 0.27338248 | J7: 561.55388 | K7: =J7/C7 -> 0.18160088 | L7: 13126 | M7: =L7/B7 -> 0.21598763 | N7: 375.50044 | O7: =N7/C7 -> 0.12143306
A8: 合計 | B8: =SUM(B5:B7) -> 165911 | C8: =SUM(C5:C7) -> 13954.956 | D8: =SUM(D5:D7) -> 49350 | E8: =D8/B8 -> 0.29744863 | F8: =SUM(F5:F7) -> 3653.6597 | G8: =F8/C8 -> 0.26181806 | H8: =SUM(H5:H7) -> 47262 | I8: =H8/B8 -> 0.28486357 | J8: =SUM(J5:J7) -> 2467.7219 | K8: =J8/C8 -> 0.1768348 | L8: =SUM(L5:L7) -> 36549 | M8: =L8/B8 -> 0.22029281 | N8: =SUM(N5:N7) -> 1506.8725 | O8: =N8/C8 -> 0.10798117
A9: 資料來源：企劃處
A10: 備註： 1.性別資料使用： (1)本統計所稱「女性企業」，指依商業登記法及公司法登記之企業，其法定代表人為女性之得標廠商。 (2)本統計所稱「女性中小企業」，指依商業登記法及公司法登記之企業，其指法定代表人為女性且決標公告之『是否為中小企業』選取『是』之得標廠商。 (3)本統計所稱「符合一定條件之女性中小企業」 原名稱為「優先取得採購業務機會之女性中小企業」，依工程會104年l0月27日「104年推動性別平等業務輔導考核實地考核綜合座談會」討論情形，因現行法令上並未對該類女性中小企業採取優惠或保護措施，爰研議修正該用詞，並經工程會104年12月14日簽奉核定修正用詞。 (4)「符合一定條件之女性中小企業」篩選條件，依經濟部中小企業處102年3月22日「研議辦理女性企業參與政府採購性別統計事宜」會議結論，指中小企業之法定代表人為女性，且該企業符合下列要件之一：一、女性持有股權或出資額須達二分之一以上。二、依法登記之負責人及關係人二分之一以上為女性。上述兩項篩選條件排除股份有限公司依法登記之法人及其持有股權(即法人股東無性別，不納入計算)。 (5)有關決標件數及決標金額，係依商業登記法及公司法登記之企業得標者。 2.應用深化： (1)統計期間，統計期間，女性企業得標家數計11,751家(A)，女性中小企業得標家數計11,546(B)，B/A之比率為98.26%，顯示女性企業大多以中小企業為主；又與109年度相較，女性企業減少280家，下降2.33%；女性中小企業家數減少245家，下降2.08%。符合一定條件之女性中小企業家數計9,273家(C)，C/A之比率為78.91%，與109年相較，減少371家，下降3.85%。 (2)就公司登記及商業登記之企業，其得標之全部件數165,911件，全部決標金額約13,954.96億元，其中，女性企業得標件數49,350件(約占全部件數之29.74%)，得標金額約3,653.66億元(約占全部決標金額之26.18%)；女性中小企業得標件數47,262件(約占全部總件數28.49%)，得標金額2,467.72億元(約占全部決標總金額17.68%)；符合一定條件之女性中小企業之得標件數36,549件(占總決標件數之22.03%)；得標金額約1,506.87億元(占總決標金額之10.8%)。 (3)各類女性企業承包政府採購之件數及金額之變動情形：女性企業、女性中小企業及符合一定條件之女性中小企業承包件數比率，110年較109年分別減少3.63%、3.35%及3.75%；在承包金額方面，女性企業、女性中小企業及符合一定條件之女性中小企業承包金額比率，110年較109年則分別上升1.22%、下降12.37%及19.5%，女性企業、女性中小企業及符合一定條件之女性中小企業家數及承包件數下降，但女性企業承包金額反而上升，似承攬規模擴大且集中於較大型企業。 3.未進行國際性別統計比較原因說明：各國對於女性企業、女性中小企業等之定義可能不同，且尚難取得資料，爰無法與國際進行性別統計比較。
D15: a | E15: b | F15: c
C16: 109 | D16: 12031 | E16: 11791 | F16: 9644
C17: 110 | D17: 11751 | E17: 11546 | F17: 9273
D18: =D17-D16 -> -280 | E18: =E17-E16 -> -245 | F18: =F17-F16 -> -371
D19: =D18/D16 -> -0.023273211 | E19: =E18/E16 -> -0.02077856 | F19: =F18/F16 -> -0.038469515
E20: b/a | F20: c/a
E21: =E16/D16 -> 0.98005153 | F21: =F16/D16 -> 0.80159588
E22: =E17/D17 -> 0.98255468 | F22: =F17/D17 -> 0.78912433

Sheet 109年
A1: 109年1月1日至12月31日由女性企業承包決標案件統計表
A3: 採購性質 | B3: 全部決標 件數 | C3: 全部決標 金額 (億元) | D3: 女性企業 | H3: 女性中小企業 | L3: 符合一定條件之女性中小企業
D4: 件數 | E4: 件數比率 | F4: 金額 (億元) | G4: 金額比率 | H4: 件數 | I4: 件數比率 | J4: 金額 (億元) | K4: 金額比率 | L4: 件數 | M4: 件數比率 | N4: 金額 (億元) | O4: 金額比率
A5: 工程 | B5: 43636 | C5: 6379.8112 | D5: 13112 | E5: =D5/B5 -> 0.30048584 | F5: 1503.9415 | G5: =F5/C5 -> 0.23573448 | H5: 12867 | I5: =H5/B5 -> 0.29487121 | J5: 1219.5875 | K5: =J5/C5 -> 0.19116358 | L5: 10683 | M5: =L5/B5 -> 0.24482079 | N5: 837.7671 | O5: =N5/C5 -> 0.13131534
A6: 財物 | B6: 67672 | C6: 5487.9455 | D6: 20406 | E6: =D6/B6 -> 0.30154274 | F6: 1432.6383 | G6: =F6/C6 -> 0.26105185 | H6: 19439 | I6: =H6/B6 -> 0.28725322 | J6: 1029.3828 | K6: =J6/C6 -> 0.18757161 | L6: 14102 | M6: =L6/B6 -> 0.20838752 | N6: 648.95863 | O6: =N6/C6 -> 0.11825165
A7: 勞務 | B7: 62074 | C7: 2744.6507 | D7: 17692 | E7: =D7/B7 -> 0.28501466 | F7: 672.98866 | G7: =F7/C7 -> 0.24520011 | H7: 16593 | I7: =H7/B7 -> 0.26730998 | J7: 567.10363 | K7: =J7/C7 -> 0.20662142 | L7: 13189 | M7: =L7/B7 -> 0.21247221 | N7: 385.05798 | O7: =N7/C7 -> 0.14029398
A8: 合計 | B8: =SUM(B5:B7) -> 173382 | C8: =SUM(C5:C7) -> 14612.407 | D8: =SUM(D5:D7) -> 51210 | E8: =D8/B8 -> 0.29535938 | F8: =SUM(F5:F7) -> 3609.5685 | G8: =F8/C8 -> 0.24702079 | H8: =SUM(H5:H7) -> 48899 | I8: =H8/B8 -> 0.28203043 | J8: =SUM(J5:J7) -> 2816.0739 | K8: =J8/C8 -> 0.192718 | L8: =SUM(L5:L7) -> 37974 | M8: =L8/B8 -> 0.21901928 | N8: =SUM(N5:N7) -> 1871.7837 | O8: =N8/C8 -> 0.1280955
A9: 資料來源：企劃處
A10: 備註： 1.性別資料使用： (1)本統計所稱「女性企業」，指依商業登記法及公司法登記之企業，其法定代表人為女性之得標廠商。 (2)本統計所稱「女性中小企業」，指依商業登記法及公司法登記之企業，其指法定代表人為女性且決標公告之『是否為中小企業』選取『是』之得標廠商。 (3)本統計所稱「符合一定條件之女性中小企業」 原名稱為「優先取得採購業務機會之女性中小企業」，依工程會104年l0月27日「104年推動性別平等業務輔導考核實地考核綜合座談會」討論情形，因現行法令上並未對該類女性中小企業採取優惠或保護措施，爰研議修正該用詞，並經工程會104年12月14日簽奉核定修正用詞。 (4)「符合一定條件之女性中小企業」篩選條件，依經濟部中小企業處102年3月22日「研議辦理女性企業參與政府採購性別統計事宜」會議結論，指中小企業之法定代表人為女性，且該企業符合下列要件之一：一、女性持有股權或出資額須達二分之一以上。二、依法登記之負責人及關係人二分之一以上為女性。上述兩項篩選條件排除股份有限公司依法登記之法人及其持有股權(即法人股東無性別，不納入計算)。 (5)有關決標件數及決標金額，係依商業登記法及公司法登記之企業得標者。 2.應用深化： (1)統計期間，女性企業得標家數計12,031家(A)，女性中小企業得標家數計11,791(B)，B/A之比率為98.00%，顯示女性企業大多以中小企業為主；又與108年度相較，女性企業成長380家，成長率3.26%；女性中小企業家數成長383家，成長率3.36%。符合一定條件之女性中小企業家數計9,644家(C)，C/A之比率為80.16%，與108年相較，增加383家，增加率4.14%。 (2)就公司登記及商業登記之企業，其得標之全部件數173,382件，全部決標金額約14,612.41億元，其中，女性企業得標件數51,210件(約占全部件數之29.54%)，得標金額約3,609.57億元(約占全部決標金額之24.7%)；女性中小企業得標件數48,899件(約占全部總件數28.20%)，得標金額2,816.07億元(約占全部決標總金額19.27%)；符合一定條件之女性中小企業之得標件數37,974件(占總決標件數之21.90%)；得標金額約1,871.78億元(占總決標金額之12.81%)。 (3)各類女性企業承包政府採購之件數及金額之變動情形：女性企業、女性中小企業及符合一定條件之女性中小企業承包件數比率，109年較108年分別成長2.58%、2.41%及1.55%；在承包金額方面，女性企業、女性中小企業及符合一定條件之女性中小企業承包金額比率，109年較108年則分別下降23.27%、26.01%及28.01%，顯示女性企業、女性中小企業及符合一定條件之女性中小企業承包件數件數提升，而承包金額反而下降，似平均承攬案件規模縮小。 3.未進行國際性別統計比較原因說明：各國對於女性企業、女性中小企業等之定義可能不同，且尚難取得資料，爰無法與國際進行性別統計比較。
E13: 女性企業家數 | F13: 12078
E14: 女性中小企業家數 | F14: 11875
E15: 女性中小企業家數(股) | F15: 9802
F18: a | G18: b | H18: c
E19: 109 | F19: 12031 | G19: 11791 | H19: 9644
E20: 110 | F20: 11751 | G20: 11546 | H20: 9273
F21: =F20-F19 -> -280 | G21: =G20-G19 -> -245 | H21: =H20-H19 -> -371
F22: =F21/F19 -> -0.023273211 | G22: =G21/G19 -> -0.02077856 | H22: =H21/H19 -> -0.038469515
G23: b/a | H23: c/a
G24: =G19/F19 -> 0.98005153 | H24: =H19/F19 -> 0.80159588
G25: =G20/F20 -> 0.98255468 | H25: =H20/F20 -> 0.78912433

Sheet 108年
A1: 108年女性企業取得政府採購案件統計表
A2: 採購性質 | B2: 全部決標 件數 | C2: 全部決標 金額 (億元) | D2: 女性企業 | H2: 女性中小企業 | L2: 符合一定條件之女性中小企業
D3: 件數 | E3: 件數比率 | F3: 金額 (億元) | G3: 金額比率 | H3: 件數 | I3: 件數比率 | J3: 金額 (億元) | K3: 金額比率 | L3: 件數 | M3: 件數比率 | N3: 金額 (億元) | O3: 金額比率
A4: 工程 | B4: 41432 | C4: 5274.1731 | D4: 12312 | E4: =D4/B4 -> 0.29716161 | F4: 1826.3089 | G4: =F4/C4 -> 0.34627398 | H4: 12124 | I4: =H4/B4 -> 0.29262406 | J4: 1290.3867 | K4: =J4/C4 -> 0.24466142 | L4: 10082 | M4: =L4/B4 -> 0.24333848 | N4: 654.27858 | O4: =N4/C4 -> 0.1240533
A5: 財物 | B5: 65710 | C5: 3734.0276 | D5: 20294 | E5: =D5/B5 -> 0.30884188 | F5: 2207.1354 | G5: =F5/C5 -> 0.59108707 | H5: 19420 | I5: =H5/B5 -> 0.29554101 | J5: 1976.9733 | K5: =J5/C5 -> 0.52944797 | L5: 14267 | M5: =L5/B5 -> 0.21712068 | N5: 1567.9584 | O5: =N5/C5 -> 0.41991078
A6: 勞務 | B6: 58420 | C6: 2260.5995 | D6: 17317 | E6: =D6/B6 -> 0.29642246 | F6: 671.07972 | G6: =F6/C6 -> 0.29685918 | H6: 16206 | I6: =H6/B6 -> 0.277405 | J6: 538.64362 | K6: =J6/C6 -> 0.23827467 | L6: 13045 | M6: =L6/B6 -> 0.22329682 | N6: 377.97863 | O6: =N6/C6 -> 0.16720283
A7: 合計 | B7: =SUM(B4:B6) -> 165562 | C7: =SUM(C4:C6) -> 11268.8 | D7: =SUM(D4:D6) -> 49923 | E7: =D7/B7 -> 0.30153658 | F7: =SUM(F4:F6) -> 4704.524 | G7: =F7/C7 -> 0.41748225 | H7: =SUM(H4:H6) -> 47750 | I7: =H7/B7 -> 0.28841159 | J7: =SUM(J4:J6) -> 3806.0036 | K7: =J7/C7 -> 0.33774702 | L7: =SUM(L4:L6) -> 37394 | M7: =L7/B7 -> 0.22586101 | N7: =SUM(N4:N6) -> 2600.2156 | O7: =N7/C7 -> 0.23074468
A8: 資料來源：企劃處
A9: 備註： 1.性別資料使用： (1)本統計所稱「女性企業」，指依商業登記法及公司法登記之企業，其法定代表人為女性之得標廠商。 (2)本統計所稱「女性中小企業」，指依商業登記法及公司法登記之企業，其指法定代表人為女性且決標公告之『是否為中小企業』選取『是』之得標廠商。 (3)本統計所稱「符合一定條件之女性中小企業」 原名稱為「優先取得採購業務機會之女性中小企業」，依工程會104年l0月27日「104年推動性別平等業務輔導考核實地考核綜合座談會」討論情形，因現行法令上並未對該類女性中小企業採取優惠或保護措施，爰研議修正該用詞，並經工程會104年12月14日簽奉核定修正用詞。 (4)「符合一定條件之女性中小企業」篩選條件，依經濟部中小企業處102年3月22日「研議辦理女性企業參與政府採購性別統計事宜」會議結論，指中小企業之法定代表人為女性，且該企業符合下列要件之一：一、女性持有股權或出資額須達二分之一以上。二、依法登記之負責人及關係人二分之一以上為女性。上述兩項篩選條件排除股份有限公司依法登記之法人及其持有股權(即法人股東無性別，不納入計算)。 (5)有關決標件數及決標金額，係依商業登記法及公司法登記之企業得標者。 2.應用深化： (1)統計期間，女性企業得標家數計11,651家(A)，女性中小企業得標家數計11,408(B)，B/A之比率為97.91%，顯示女性企業大多以中小企業為主；又與107年度相較，女性企業成長614家，成長率5.56%；女性中小企業家數成長563家，成長率5.19%。符合一定條件之女性中小企業家數計9,261家(C)，C/A之比率為79.49%，與107年相較，增加421家，增加率4.76%。 (2)就公司登記及商業登記之企業，其得標之全部件數165,562件，全部決標金額約11,268.80億元，其中，女性企業得標件數49,923件(約占全部件數之30.15%)，得標金額約4,704.52億元(約占全部決標金額之41.75%)；女性中小企業得標件數47,750件(約占全部總件數28.84%)，得標金額3,806億元(約占全部決標總金額33.77%)；符合一定條件之女性中小企業之得標件數37,394件(占總決標件數之22.59%)；得標金額約2,600.22億元(占總決標金額之23.07%)。 (3)各類女性企業承包政府採購之件數及金額之變動情形：女性企業、女性中小企業及符合一定條件之女性中小企業承包件數比率，108年較107年分別成長0.29%、0.16%及0.09%；在承包金額方面，女性企業、女性中小企業及符合一定條件之女性中小企業承包金額比率，108年較107年分別成長15.66%、14.04%及9.59%，顯示女性企業、女性中小企業及符合一定條件之女性中小企業承包件數及承包金額均明顯提升，商業規模有逐步擴大趨勢。 3.未進行國際性別統計比較原因說明：各國對於女性企業、女性中小企業等之定義可能不同，且尚難取得資料，爰無法與國際進行性別統計比較。

Sheet 107年
A1: 107年女性企業取得政府採購案件統計表
A2: 採購性質 | B2: 全部決標 件數 | C2: 全部決標 金額 (億元) | D2: 女性企業 | H2: 女性中小企業 | L2: 符合一定條件之女性中小企業
D3: 件數 | E3: 件數比率 | F3: 金額 (億元) | G3: 金額比率 | H3: 件數 | I3: 件數比率 | J3: 金額 (億元) | K3: 金額比率 | L3: 件數 | M3: 件數比率 | N3: 金額 (億元) | O3: 金額比率
A4: 工程 | B4: 41519 | C4: 5523.4906 | D4: 12165 | E4: =D4/B4 -> 0.29299839 | F4: 1217.0333 | G4: =F4/C4 -> 0.22033772 | H4: 11987 | I4: =H4/B4 -> 0.28871119 | J4: 950.17616 | K4: =J4/C4 -> 0.17202458 | L4: 9934 | M4: =L4/B4 -> 0.23926395 | N4: 639.08009 | O4: =N4/C4 -> 0.11570221
A5: 財物 | B5: 60039 | C5: 3732.7345 | D5: 18545 | E5: =D5/B5 -> 0.30888256 | F5: 1247.9537 | G5: =F5/C5 -> 0.33432694 | H5: 17854 | I5: =H5/B5 -> 0.29737337 | J5: 856.43534 | K5: =J5/C5 -> 0.22943913 | L5: 13216 | M5: =L5/B5 -> 0.22012359 | N5: 557.58277 | O5: =N5/C5 -> 0.14937649
A6: 勞務 | B6: 52614 | C6: 2277.6452 | D6: 15328 | E6: =D6/B6 -> 0.2913293 | F6: 544.2341 | G6: =F6/C6 -> 0.23894596 | H6: 14371 | I6: =H6/B6 -> 0.27314023 | J6: 468.82379 | K6: =J6/C6 -> 0.20583706 | L6: 11540 | M6: =L6/B6 -> 0.21933326 | N6: 357.64963 | O6: =N6/C6 -> 0.15702605
A7: 合計 | B7: =SUM(B4:B6) -> 154172 | C7: =SUM(C4:C6) -> 11533.87 | D7: =SUM(D4:D6) -> 46038 | E7: =D7/B7 -> 0.29861453 | F7: =SUM(F4:F6) -> 3009.2211 | G7: =F7/C7 -> 0.26090298 | H7: =SUM(H4:H6) -> 44212 | I7: =H7/B7 -> 0.28677062 | J7: =SUM(J4:J6) -> 2275.4353 | K7: =J7/C7 -> 0.19728289 | L7: =SUM(L4:L6) -> 34690 | M7: =L7/B7 -> 0.22500843 | N7: =SUM(N4:N6) -> 1554.3125 | O7: =N7/C7 -> 0.13476071
A8: 資料來源：企劃處
A9: 備註： 1.性別資料使用： (1)本統計所稱「女性企業」，指依商業登記法及公司法登記之企業，其法定代表人為女性之得標廠商。 (2)本統計所稱「女性中小企業」，指依商業登記法及公司法登記之企業，其指法定代表人為女性且決標公告之『是否為中小企業』選取『是』之得標廠商。 (3)本統計所稱「符合一定條件之女性中小企業」 原名稱為「優先取得採購業務機會之女性中小企業」，依工程會104年l0月27日「104年推動性別平等業務輔導考核實地考核綜合座談會」討論情形，因現行法令上並未對該類女性中小企業採取優惠或保護措施，爰研議修正該用詞，並經工程會104年12月14日簽奉核定修正用詞。 (4)「符合一定條件之女性中小企業」篩選條件，依經濟部中小企業處102年3月22日「研議辦理女性企業參與政府採購性別統計事宜」會議結論，指中小企業之法定代表人為女性，且該企業符合下列要件之一：一、女性持有股權或出資額須達二分之一以上。二、依法登記之負責人及關係人二分之一以上為女性。上述兩項篩選條件排除股份有限公司依法登記之法人及其持有股權(即法人股東無性別，不納入計算)。 (5)有關決標件數及決標金額，係依商業登記法及公司法登記之企業得標者。 2.應用深化： (1)統計期間，女性企業得標家數計11,037家(A)，女性中小企業得標家數計10,845(B)，B/A之比率為98.26%，顯示女性企業大多以中小企業為主；又與106年度相較，女性企業成長1,903家，成長率20.83%；女性中小企業家數成長1,804家，成長率19.95%。符合一定條件之女性中小企業家數計8,840家(C)，C/A之比率為80.09%，與106年相較，增加1,196家，增家率15.65%。 (2)就公司登記及商業登記之企業，其得標之全部件數154,172件，全部決標金額約11,533.87億元，其中，女性企業得標件數46,038件(約占全部件數之29.86%)，得標金額約3,009.22億元(約占全部決標金額之26.09%)；女性中小企業得標件數44,212件(約占全部總件數28.68%)，得標金額2,275.44億元(約占全部決標總金額19.73%)；符合一定條件之女性中小企業之得標件數34,690件(占總決標件數之22.50%)；得標金額約1,554.31億元(占總決標金額之13.48%)。 (3)各類女性企業承包政府採購之件數及金額之變動情形：女性企業及女性中小企業承包件數比率，107年較106年分別成長1.54%、0.91%；惟在承包金額方面，女性企業及女性中小企業承包金額比率，107年較106年分別減少5.98%及9.49%，顯示女性企業及女性中小企業商業規模可能較小，爰承包件數雖增加，但承包金額卻降低。又「符合一定條件之女性中小企業」承包件數比率，107年較106年減少0.29%；在承包金額方面，107年較106年減少3.9%，變化幅度較小。 3.未進行國際性別統計比較原因說明：各國對於女性企業、女性中小企業等之定義可能不同，且尚難取得資料，爰無法與國際進行性別統計比較。

Sheet 106年
A1: 106年女性企業取得政府採購案件統計表
A2: 採購性質 | B2: 全部決標 件數 | C2: 全部決標 金額 (億元) | D2: 女性企業 | H2: 女性中小企業 | L2: 符合一定條件之女性中小企業
D3: 件數 | E3: 件數比率 | F3: 金額 (億元) | G3: 金額比率 | H3: 件數 | I3: 件數比率 | J3: 金額 (億元) | K3: 金額比率 | L3: 件數 | M3: 件數比率 | N3: 金額 (億元) | O3: 金額比率
A4: 工程 | B4: 41656 | C4: 4350.4575 | D4: 12282 | E4: =D4/B4 -> 0.29484348 | F4: 1027.8776 | G4: =F4/C4 -> 0.23626885 | H4: 12169 | I4: =H4/B4 -> 0.29213079 | J4: 935.96944 | K4: =J4/C4 -> 0.21514276 | L4: 10075 | M4: =L4/B4 -> 0.24186192 | N4: 583.70479 | O4: =N4/C4 -> 0.1341709
A5: 財物 | B5: 60171 | C5: 3477.1337 | D5: 16966 | E5: =D5/B5 -> 0.28196307 | F5: 1668.4988 | G5: =F5/C5 -> 0.4798489 | H5: 16749 | I5: =H5/B5 -> 0.27835668 | J5: 1535.3279 | K5: =J5/C5 -> 0.44154986 | L5: 13294 | M5: =L5/B5 -> 0.220937 | N5: 813.62131 | O5: =N5/C5 -> 0.23399196
A6: 勞務 | B6: 54896 | C6: 2139.0821 | D6: 15139 | E6: =D6/B6 -> 0.27577601 | F6: 499.74286 | G6: =F6/C6 -> 0.23362491 | H6: 14604 | I6: =H6/B6 -> 0.26603031 | J6: 441.30081 | K6: =J6/C6 -> 0.20630382 | L6: 12345 | M6: =L6/B6 -> 0.22487977 | N6: 334.63038 | O6: =N6/C6 -> 0.15643643
A7: 合計 | B7: =SUM(B4:B6) -> 156723 | C7: =SUM(C4:C6) -> 9966.6733 | D7: =SUM(D4:D6) -> 44387 | E7: =D7/B7 -> 0.28321944 | F7: =SUM(F4:F6) -> 3196.1192 | G7: =F7/C7 -> 0.32068064 | H7: =SUM(H4:H6) -> 43522 | I7: =H7/B7 -> 0.27770015 | J7: =SUM(J4:J6) -> 2912.5981 | K7: =J7/C7 -> 0.29223373 | L7: =SUM(L4:L6) -> 35714 | M7: =L7/B7 -> 0.22787976 | N7: =SUM(N4:N6) -> 1731.9565 | O7: =N7/C7 -> 0.17377478
A8: 資料來源：企劃處
A9: 備註： 1.性別資料使用： (1)本統計所稱「女性企業」，指依商業登記法及公司法登記之企業，其法定代表人為女性之得標廠商。 (2)本統計所稱「女性中小企業」，指依商業登記法及公司法登記之企業，其指法定代表人為女性且決標公告之『是否為中小企業』選取『是』之得標廠商。 (3)本統計所稱「符合一定條件之女性中小企業」 原名稱為「優先取得採購業務機會之女性中小企業」，依工程會104年l0月27日「104年推動性別平等業務輔導考核實地考核綜合座談會」討論情形，因現行法令上並未對該類女性中小企業採取優惠或保護措施，爰研議修正該用詞，並經工程會104年12月14日簽奉核定修正用詞。 (4)「符合一定條件之女性中小企業」篩選條件，依經濟部中小企業處102年3月22日「研議辦理女性企業參與政府採購性別統計事宜」會議結論，指中小企業之法定代表人為女性，且該企業符合下列要件之一：一、女性持有股權或出資額須達二分之一以上。二、依法登記之負責人及關係人二分之一以上為女性。上述兩項篩選條件排除股份有限公司依法登記之法人及其持有股權(即法人股東無性別，不納入計算)。 (5) 有關決標件數及決標金額，係依商業登記法及公司法登記之企業得標者。 2.應用深化：統計期間，女性企業得標家數計9,134家(A)，女性中小企業得標家數計9,041(B)，B/A之比率為98.98%；符合一定條件之女性中小企業家數計7,644家(C)，C/A之比率為83.68%。就公司登記及商業登記之企業，其得標之全部件數156,723件，全部決標金額約9,966.67億元，其中： (1)女性企業得標件數44,387件(約占全部件數之28.32%)，得標金額約3,196.12億元(約占全部決標金額之32.07%)。 (2)女性中小企業得標件數43,522件(約占全部總件數27.77%)，得標金額2,912.6億元(約占全部決標總金額29.22%)。 (3)「符合一定條件之女性中小企業」得標件數35,714件(占總決標件數之22.79%)；得標金額約1,731.96億元(占總決標金額之17.38%)。 3.未進行國際性別統計比較原因說明：各國對於女性企業、女性中小企業等之定義可能不同，且尚難取得資料，爰無法與國際進行性別統計比較。

Sheet 105年
A1: 105年女性企業取得政府採購案件統計表
A2: 採購性質 | B2: 全部決標 件數 | C2: 全部決標 金額 (億元) | D2: 女性企業1 | H2: 女性中小企業2 | L2: 符合一定條件之女性中小企業3
D3: 件數 | E3: 件數比率 | F3: 金額 (億元) | G3: 金額比率 | H3: 件數 | I3: 件數比率 | J3: 金額 (億元) | K3: 金額比率 | L3: 件數 | M3: 件數比率 | N3: 金額 (億元) | O3: 金額比率
A4: 工程 | B4: 40057 | C4: 3792.2857 | D4: 11677 | E4: =D4/B4 -> 0.2915096 | F4: 870.18339 | G4: =F4/C4 -> 0.22946145 | H4: 11608 | I4: =H4/B4 -> 0.28978705 | J4: 746.24082 | K4: =J4/C4 -> 0.19677864 | L4: 9584 | M4: =L4/B4 -> 0.23925906 | N4: 483.08015 | O4: =N4/C4 -> 0.12738496
A5: 財物 | B5: 58125 | C5: 2979.2321 | D5: 16410 | E5: =D5/B5 -> 0.28232258 | F5: 793.84248 | G5: =F5/C5 -> 0.26645876 | H5: 16257 | I5: =H5/B5 -> 0.27969032 | J5: 779.07944 | K5: =J5/C5 -> 0.26150344 | L5: 12921 | M5: =L5/B5 -> 0.22229677 | N5: 489.92214 | O5: =N5/C5 -> 0.16444578
A6: 勞務 | B6: 50639 | C6: 1828.6281 | D6: 14270 | E6: =D6/B6 -> 0.28179861 | F6: 475.8028 | G6: =F6/C6 -> 0.2601966 | H6: 13968 | I6: =H6/B6 -> 0.27583483 | J6: 447.1056 | K6: =J6/C6 -> 0.2445033 | L6: 11770 | M6: =L6/B6 -> 0.23242955 | N6: 353.39927 | O6: =N6/C6 -> 0.19325924
A7: 合計 | B7: =SUM(B4:B6) -> 148821 | C7: =SUM(C4:C6) -> 8600.1459 | D7: =SUM(D4:D6) -> 42357 | E7: =D7/B7 -> 0.28461709 | F7: =SUM(F4:F6) -> 2139.8287 | G7: =F7/C7 -> 0.24881307 | H7: =SUM(H4:H6) -> 41833 | I7: =H7/B7 -> 0.28109608 | J7: =SUM(J4:J6) -> 1972.4259 | K7: =J7/C7 -> 0.22934795 | L7: =SUM(L4:L6) -> 34275 | M7: =L7/B7 -> 0.23031024 | N7: =SUM(N4:N6) -> 1326.4016 | O7: =N7/C7 -> 0.15423012
A8: 資料來源：企劃處
A9: 註1：本統計所稱「女性企業」，指依商業登記法及公司法登記之企業，其法定代表人為女性之得標廠商。 註2：本統計所稱「女性中小企業」，指依商業登記法及公司法登記之企業，其指法定代表人為女性且決標公告之『是否為中小企業』選取『是』之得標廠商。 註3：「符合一定條件之女性中小企業」原名稱為「優先取得採購業務機會之女性中小企業」，依工程會104年l0月27日「104年推動性別平等業務輔導考核實地考核綜合座談會」討論情形，因現行法令上並未對該類女性中小企業採取優惠或保護措施，爰研議修正該用詞，並經工程會104年12月14日簽奉核定修正用詞。 註4：「符合一定條件之女性中小企業」篩選條件，依經濟部中小企業處102年3月22日「研議辦理女性企業參與政府採購性別統計事宜」會議結論，指中小企業之法定代表人為女性，且該企業符合下列要件之一：一、女性持有股權或出資額須達二分之一以上。二、依法登記之負責人及關係人二分之一以上為女性。上述兩項篩選條件排除股份有限公司依法登記之法人及其持有股權(即法人股東無性別，不納入計算)。 註5：統計期間，女性企業得標家數計10,251家(A)，女性中小企業得標家數計10,175(B)，B/A之比率為99.25%；符合一定條件之女性中小企業家數計8,425家(C)，C/A之比率為82.18%。 註6：有關決標件數及決標金額，係依商業登記法及公司法登記之企業得標者。

Sheet 104年
A1: 104年女性企業取得政府採購案件統計表
A2: 採購性質 | B2: 全部決標 件數 | C2: 全部決標 金額 (億元) | D2: 女性企業1 | H2: 女性中小企業2 | L2: 符合一定條件之女性中小企業3
D3: 件數 | E3: 件數比率 | F3: 金額 (億元) | G3: 金額比率 | H3: 件數 | I3: 件數比率 | J3: 金額 (億元) | K3: 金額比率 | L3: 件數 | M3: 件數比率 | N3: 金額 (億元) | O3: 金額比率
A4: 工程 | B4: 39224 | C4: 3002.2989 | D4: 11370 | E4: =D4/B4 -> 0.28987355 | F4: 711.69252 | G4: =F4/C4 -> 0.23704919 | H4: 11259 | I4: =H4/B4 -> 0.28704365 | J4: 654.13997 | K4: =J4/C4 -> 0.2178797 | L4: 9245 | M4: =L4/B4 -> 0.23569753 | N4: 433.0656 | O4: =N4/C4 -> 0.14424467
A5: 財物 | B5: 56693 | C5: 2259.4287 | D5: 16176 | E5: =D5/B5 -> 0.28532623 | F5: 972.67181 | G5: =F5/C5 -> 0.43049458 | H5: 15964 | I5: =H5/B5 -> 0.28158679 | J5: 958.70035 | K5: =J5/C5 -> 0.42431095 | L5: 12618 | M5: =L5/B5 -> 0.22256716 | N5: 542.09779 | O5: =N5/C5 -> 0.23992693
A6: 勞務 | B6: 47727 | C6: 1935.8404 | D6: 13651 | E6: =D6/B6 -> 0.28602259 | F6: 511.83334 | G6: =F6/C6 -> 0.26439853 | H6: 13348 | I6: =H6/B6 -> 0.27967398 | J6: 489.18642 | K6: =J6/C6 -> 0.25269977 | L6: 11204 | M6: =L6/B6 -> 0.23475182 | N6: 341.69832 | O6: =N6/C6 -> 0.17651162
A7: 合計 | B7: =SUM(B4:B6) -> 143644 | C7: =SUM(C4:C6) -> 7197.5679 | D7: =SUM(D4:D6) -> 41197 | E7: =D7/B7 -> 0.28679931 | F7: =SUM(F4:F6) -> 2196.1977 | G7: =F7/C7 -> 0.30513052 | H7: =SUM(H4:H6) -> 40571 | I7: =H7/B7 -> 0.28244131 | J7: =SUM(J4:J6) -> 2102.0267 | K7: =J7/C7 -> 0.29204681 | L7: =SUM(L4:L6) -> 33067 | M7: =L7/B7 -> 0.23020105 | N7: =SUM(N4:N6) -> 1316.8617 | O7: =N7/C7 -> 0.18295926
A8: 資料來源：企劃處
A9: 註1：本統計所稱「女性企業」，指依商業登記法及公司法登記之企業，其法定代表人為女性之得標廠商。 註2：本統計所稱「女性中小企業」，指依商業登記法及公司法登記之企業，其指法定代表人為女性且決標公告之『是否為中小企業』選取『是』之得標廠商。 註3：「符合一定條件之女性中小企業」 原名稱為「優先取得採購業務機會之女性中小企業」，依工程會104年l0月27日「104年推動性別平等業務輔導考核實地考核綜合座談會」討論情形，因現行法令上並未對該類女性中小企業採取優惠或保護措施，爰研議修正該用詞，並經工程會104年12月14日簽奉核定修正用詞。 註4：「符合一定條件之女性中小企業」篩選條件，依經濟部中小企業處102年3月22日「研議辦理女性企業參與政府採購性別統計事宜」會議結論，指中小企業之法定代表人為女性，且該企業符合下列要件之一：一、女性持有股權或出資額須達二分之一以上。二、依法登記之負責人及關係人二分之一以上為女性。上述兩項篩選條件排除股份有限公司依法登記之法人及其持有股權(即法人股東無性別，不納入計算)。 註5：統計期間，女性企業得標家數計10,173家(A)，女性中小企業得標家數計10,100家(B)，B/A之比率為99.28%；符合一定條件之女性中小企業家數計8,313家(C)，C/A之比率為81.71%。 註6：有關決標件數及決標金額，係依商業登記法及公司法登記之企業得標者。

Sheet 103年
A1: 103年女性企業取得政府採購案件統計表
A2: 採購性質 | B2: 全部決標 件數 | C2: 全部決標 金額 (億元) | D2: 女性企業1 | H2: 女性中小企業2 | L2: 優先取得採購業務機會之女性中小企業3
D3: 件數 | E3: 件數比率 | F3: 金額 (億元) | G3: 金額比率 | H3: 件數 | I3: 件數比率 | J3: 金額 (億元) | K3: 金額比率 | L3: 件數 | M3: 件數比率 | N3: 金額 (億元) | O3: 金額比率
A4: 工程 | B4: 44802 | C4: 3379.9345 | D4: 13175 | E4: =D4/B4 -> 0.29407169 | F4: 826.84093 | G4: =F4/C4 -> 0.24463224 | H4: 13024 | I4: =H4/B4 -> 0.29070131 | J4: 746.86489 | K4: =J4/C4 -> 0.22097023 | L4: 10494 | M4: =L4/B4 -> 0.23423061 | N4: 485.75081 | O4: =N4/C4 -> 0.14371604
A5: 財物 | B5: 58963 | C5: 3231.6164 | D5: 16811 | E5: =D5/B5 -> 0.285111 | F5: 557.90955 | G5: =F5/C5 -> 0.17264102 | H5: 16603 | I5: =H5/B5 -> 0.28158337 | J5: 543.72146 | K5: =J5/C5 -> 0.16825062 | L5: 13068 | M5: =L5/B5 -> 0.22163051 | N5: 360.70587 | O5: =N5/C5 -> 0.11161779
A6: 勞務 | B6: 47349 | C6: 1800.5005 | D6: 13454 | E6: =D6/B6 -> 0.28414539 | F6: 503.09712 | G6: =F6/C6 -> 0.2794207 | H6: 13164 | I6: =H6/B6 -> 0.27802066 | J6: 479.14456 | K6: =J6/C6 -> 0.26611742 | L6: 10987 | M6: =L6/B6 -> 0.23204292 | N6: 332.57057 | O6: =N6/C6 -> 0.18471006
A7: 合計 | B7: =SUM(B4:B6) -> 151114 | C7: =SUM(C4:C6) -> 8412.0514 | D7: =SUM(D4:D6) -> 43440 | E7: =D7/B7 -> 0.28746509 | F7: =SUM(F4:F6) -> 1887.8476 | G7: =F7/C7 -> 0.22442179 | H7: =SUM(H4:H6) -> 42791 | I7: =H7/B7 -> 0.28317032 | J7: =SUM(J4:J6) -> 1769.7309 | K7: =J7/C7 -> 0.21038042 | L7: =SUM(L4:L6) -> 34549 | M7: =L7/B7 -> 0.22862872 | N7: =SUM(N4:N6) -> 1179.0272 | O7: =N7/C7 -> 0.1401593
A8: 資料來源：企劃處
A9: 註1：本統計所稱「女性企業」，指依商業登記法及公司法登記之企業，其法定代表人為女性之得標廠商。 註2：本統計所稱「女性中小企業」，指依商業登記法及公司法登記之企業，其指法定代表人為女性且決標公告之『是否為中小企業』選取『是』之得標廠商。 註3：「優先取得採購業務機會之女性中小企業」篩選條件，依經濟部中小企業處102年3月22日「研議辦理女性企業參與政府採購性別統計事宜」會議結論，係指：中小企業之法定代表人為女性，且該企業符合下列要件之一：一、女性持有股權或出資額須達二分之一以上。二、依法登記之負責人及關係人二分之一以上為女性。上述兩項篩選條件排除股份有限公司依法登記之法人及其持有股權(即法人股東無性別，不納入計算)。 註4：統計期間，女性企業得標家數計10,150家(A)，女性中小企業得標家數計10,067家(B)，B/A之比率為99.11%；優先取得採購業務機會之女性中小企業家數計8,281家(C)，C/A之比率為81.21%。 註5：有關決標件數及決標金額，係依商業登記法及公司法登記之企業得標者。

Sheet 102年(5月17日-12月31日)
A1: 102年5月17日至12月31日女性企業取得政府採購案件統計表
A2: 採購性質 | B2: 全部決標 件數 | C2: 全部決標 金額 (億元) | D2: 女性企業1 | H2: 女性中小企業2 | L2: 優先取得採購業務機會之女性中小企業3
D3: 件數 | E3: 件數比率 | F3: 金額 (億元) | G3: 金額比率 | H3: 件數 | I3: 件數比率 | J3: 金額 (億元) | K3: 金額比率 | L3: 件數 | M3: 件數比率 | N3: 金額 (億元) | O3: 金額比率
A4: 工程 | B4: 32117 | C4: 2748.6126 | D4: 8693 | E4: =D4/B4 -> 0.27066663 | F4: 471.89073 | G4: =F4/C4 -> 0.17168325 | H4: 8601 | I4: =H4/B4 -> 0.2678021 | J4: 420.63915 | K4: =J4/C4 -> 0.1530369 | L4: 6966 | M4: =L4/B4 -> 0.21689448 | N4: 286.28186 | O4: =N4/C4 -> 0.10415504
A5: 財物 | B5: 44538 | C5: 4519.6237 | D5: 11110 | E5: =D5/B5 -> 0.24944991 | F5: 541.7085 | G5: =F5/C5 -> 0.11985699 | H5: 10950 | I5: =H5/B5 -> 0.24585747 | J5: 520.27967 | K5: =J5/C5 -> 0.11511571 | L5: 8579 | M5: =L5/B5 -> 0.19262203 | N5: 317.88745 | O5: =N5/C5 -> 0.070334938
A6: 勞務 | B6: 44908 | C6: 1944.7535 | D6: 8655 | E6: =D6/B6 -> 0.19272735 | F6: 308.74873 | G6: =F6/C6 -> 0.15875982 | H6: 8447 | I6: =H6/B6 -> 0.18809566 | J6: 276.78105 | K6: =J6/C6 -> 0.14232192 | L6: 6906 | M6: =L6/B6 -> 0.15378106 | N6: 192.72041 | O6: =N6/C6 -> 0.099097599
A7: 合計 | B7: =SUM(B4:B6) -> 121563 | C7: =SUM(C4:C6) -> 9212.9898 | D7: =SUM(D4:D6) -> 28458 | E7: =D7/B7 -> 0.23410084 | F7: =SUM(F4:F6) -> 1322.348 | G7: =F7/C7 -> 0.14353082 | H7: =SUM(H4:H6) -> 27998 | I7: =H7/B7 -> 0.23031679 | J7: =SUM(J4:J6) -> 1217.6999 | K7: =J7/C7 -> 0.13217206 | L7: =SUM(L4:L6) -> 22451 | M7: =L7/B7 -> 0.18468613 | N7: =SUM(N4:N6) -> 796.88972 | O7: =N7/C7 -> 0.08649632
A8: 資料來源：企劃處
A9: 註1：本統計所稱「女性企業」，指法定代表人為女性之得標廠商。 註2：本統計所稱「女性中小企業」，指法定代表人為女性且決標公告之『是否為中小企業』選取『是』之得標廠商。 註3：「優先取得採購業務機會之女性中小企業」篩選條件，依經濟部中小企業處102年3月22日「研議辦理女性企業參與政府採購性別統計事宜」會議結論，係指：中小企業之法定代表人為女性，且該企業符合下列要件之一：一、女性持有股權或出資額須達二分之一以上。二、依法登記之負責人及關係人二分之一以上為女性。上述兩項篩選條件排除股份有限公司依法登記之法人及其持有股權(即法人股東無性別，不納入計算)。 註4：統計期間，女性企業得標家數計8,424家(A)，女性中小企業得標家數計8,362家(B)，B/A之比率為99.26%；優先取得採購業務機會之女性中小企業家數計6,783家(C)，C/A之比率為80.51%。
